BEGIN:VCALENDAR
VERSION:2.0
PRODID:-//Dogdyke Steam Drainage Station - ECPv6.5.0//NONSGML v1.0//EN
CALSCALE:GREGORIAN
METHOD:PUBLISH
X-ORIGINAL-URL:https://dogdyke.com
X-WR-CALDESC:Events for Dogdyke Steam Drainage Station
REFRESH-INTERVAL;VALUE=DURATION:PT1H
X-Robots-Tag:noindex
X-PUBLISHED-TTL:PT1H
BEGIN:VTIMEZONE
TZID:UTC
BEGIN:STANDARD
TZOFFSETFROM:+0000
TZOFFSETTO:+0000
TZNAME:UTC
DTSTART:20250101T000000
END:STANDARD
END:VTIMEZONE
BEGIN:VEVENT
DTSTART;TZID=UTC:20250920T123000
DTEND;TZID=UTC:20250920T163000
DTSTAMP:20260419T184809
CREATED:20250212T204313Z
LAST-MODIFIED:20250212T204533Z
UID:2106-1758371400-1758385800@dogdyke.com
SUMMARY:Saturday 20th September - Heritage Weekend with Ian Potts and Exhibitors
DESCRIPTION:As part of the annual Heritage Weekend\, we will be opening on Saturday to celebrate and are pleased to welcome Ian Potts and his exhibitors during this day \nDoors open at the usual time of 12:30 pm to 4:30 pm
URL:https://dogdyke.com/event/saturday-20th-september-heritage-weekend-with-ian-potts-and-exhibitors/
LOCATION:[icon name="map" style="regular" class="" unprefixed_class=""] Dogdyke Pumping Station\, Tattershall\, Lincolnshire\, LN4 4JG\, United Kingdom
END:VEVENT
END:VCALENDAR