BEGIN:VCALENDAR
VERSION:2.0
PRODID:-//Dogdyke Steam Drainage Station - ECPv6.5.0//NONSGML v1.0//EN
CALSCALE:GREGORIAN
METHOD:PUBLISH
X-ORIGINAL-URL:https://dogdyke.com
X-WR-CALDESC:Events for Dogdyke Steam Drainage Station
REFRESH-INTERVAL;VALUE=DURATION:PT1H
X-Robots-Tag:noindex
X-PUBLISHED-TTL:PT1H
BEGIN:VTIMEZONE
TZID:UTC
BEGIN:STANDARD
TZOFFSETFROM:+0000
TZOFFSETTO:+0000
TZNAME:UTC
DTSTART:20250101T000000
END:STANDARD
END:VTIMEZONE
BEGIN:VEVENT
DTSTART;TZID=UTC:20250907T123000
DTEND;TZID=UTC:20250907T163000
DTSTAMP:20260419T185507
CREATED:20250212T204136Z
LAST-MODIFIED:20250703T072342Z
UID:2104-1757248200-1757262600@dogdyke.com
SUMMARY:Sunday 7th September - Oil Engines
DESCRIPTION:Join us towards the end of the year for our September opening \nWe will have some displays of oil engines \nDoors open at 12:30 pm and close at 4:30 pm
URL:https://dogdyke.com/event/sunday-7th-september/
LOCATION:[icon name="map" style="regular" class="" unprefixed_class=""] Dogdyke Pumping Station\, Tattershall\, Lincolnshire\, LN4 4JG\, United Kingdom
END:VEVENT
END:VCALENDAR