BEGIN:VCALENDAR
VERSION:2.0
PRODID:-//Dogdyke Steam Drainage Station - ECPv6.5.0//NONSGML v1.0//EN
CALSCALE:GREGORIAN
METHOD:PUBLISH
X-WR-CALNAME:Dogdyke Steam Drainage Station
X-ORIGINAL-URL:https://dogdyke.com
X-WR-CALDESC:Events for Dogdyke Steam Drainage Station
REFRESH-INTERVAL;VALUE=DURATION:PT1H
X-Robots-Tag:noindex
X-PUBLISHED-TTL:PT1H
BEGIN:VTIMEZONE
TZID:UTC
BEGIN:STANDARD
TZOFFSETFROM:+0000
TZOFFSETTO:+0000
TZNAME:UTC
DTSTART:20250101T000000
END:STANDARD
END:VTIMEZONE
BEGIN:VEVENT
DTSTART;TZID=UTC:20250803T123000
DTEND;TZID=UTC:20250803T163000
DTSTAMP:20260419T184319
CREATED:20250212T204030Z
LAST-MODIFIED:20250212T204612Z
UID:2102-1754224200-1754238600@dogdyke.com
SUMMARY:Sunday 3rd August - Annual Sheep and Wool day
DESCRIPTION:Join us for our annual Sheep and Wool day! \nDoors open at 12:30 pm and close at 4:30 pm
URL:https://dogdyke.com/event/sunday-3rd-august-annual-sheep-and-wool-day/
LOCATION:[icon name="map" style="regular" class="" unprefixed_class=""] Dogdyke Pumping Station\, Tattershall\, Lincolnshire\, LN4 4JG\, United Kingdom
END:VEVENT
END:VCALENDAR